BEGIN:VCALENDAR
VERSION:2.0
PRODID:-//pretix//pretix.eu//
BEGIN:VTIMEZONE
TZID:Europe/Berlin
BEGIN:STANDARD
DTSTART:20001029T040000
RRULE:FREQ=YEARLY;BYDAY=-1SU;BYMONTH=10
TZNAME:CET
TZOFFSETFROM:+0200
TZOFFSETTO:+0100
END:STANDARD
BEGIN:DAYLIGHT
DTSTART:20000326T030000
RRULE:FREQ=YEARLY;BYDAY=-1SU;BYMONTH=3
TZNAME:CEST
TZOFFSETFROM:+0100
TZOFFSETTO:+0200
END:DAYLIGHT
END:VTIMEZONE
BEGIN:VEVENT
UID:pretix-ruettelschuh-tickets-4660743@ruettelschuh.vereinsticket.de
DTSTART;TZID=Europe/Berlin:20251005T111500
DTEND;TZID=Europe/Berlin:20251005T121500
DESCRIPTION:Tickets: https://ruettelschuh.vereinsticket.de/tickets/4660743/
 \nEinlass: 05.10.2025 11:00\nVeranstalter: Kulturinitiative Rüttelschuh e
 .V.
DTSTAMP:20260425T193922Z
LOCATION:An d. Wassermühle 4B\, An der Wassermühle\, 28857 Syke
SUMMARY:TdV: "Worauf wartet Godot? …in Barrien?" - ein theatraler Spazier
 gang
END:VEVENT
END:VCALENDAR
